BEGIN:VCALENDAR
PRODID:-//eluceo/ical//2.0/EN
VERSION:2.0
CALSCALE:GREGORIAN
BEGIN:VEVENT
UID:event-133
DTSTAMP:20260423T095931Z
SUMMARY:Noord-Brabant Tour 2022
DESCRIPTION:Afgelopen mei hebben we een avondrit verreden in het westen van
  de provincie Noord-Brabant. Voor de Noord-Brabant tour gaan we in septemb
 er naar het oosten van onze provincie\, waarbij we ook de  grenzen gaan o
 pzoeken. We heten u van harte welkom op zondag 25 september om 10:00 bij h
 et startpunt in Asten. Nadat u genoten hebt van een kop koffie of thee met
  een stuk vlaai\, u de routebeschrijving heeft gekregen en we eventuele bi
 jzonderheden hebben besproken\, gaan we tegen 11:00 uur beginnen aan de ro
 ute van ongeveer 120 km. Tijdens de rit komt u langs voldoende horecageleg
 enheden waar u kunt stoppen voor een (lunch)pauze\; u bent vrij om te bepa
 len waar en hoe vaak u onderweg stopt. We verwachten dat u tussen 16:00 en
  17:00 uur bij het eindpunt in Asten zult komen. Daar kunt u onder het gen
 ot van een hapje en een drankje met andere deelnemers napraten over de tou
 r. U kunt daar ook blijven eten\, maar die keuze is aan u. Het inschrijfge
 ld bedraagt €10 pp. Hiervoor krijgt u een kop koffie/thee met een stuk v
 laai\, een hapje en drankje na afloop\, een routebeschrijving en een rally
 schildje als aandenken. Na het kopen van een ticket ontvangt u een bevesti
 ging via e-mail met informatie over het start- en eindpunt van de rit. We
  hopen u 25 september te mogen verwelkomen bij de Noord-Brabant Tour. Met 
 vriendelijke groeten\, Regiocommissie Noord-Brabant  
DTSTART:20220925T080000Z
DTEND:20220925T150000Z
LOCATION:museum “Klok en Peel”
END:VEVENT
BEGIN:VTIMEZONE
TZID:UTC
BEGIN:STANDARD
DTSTART:20220925T080000
TZNAME:UTC
TZOFFSETTO:+0000
TZOFFSETFROM:+0000
END:STANDARD
END:VTIMEZONE
END:VCALENDAR
