BEGIN:VCALENDAR
PRODID:-//eluceo/ical//2.0/EN
VERSION:2.0
CALSCALE:GREGORIAN
BEGIN:VEVENT
UID:event-194
DTSTAMP:20260420T103612Z
SUMMARY:7 juni t/m 15 juni 2023\, SCN ledenreis Kroatië 
DESCRIPTION:Regio-oost gaat over de grens. Van 7 juni t/m 15 juni willen we
  een buitenlandreis organiseren voor SCN leden naar Kroatië. Deze 9-daags
 e tourrit laat jullie de mooiste landschappen zien van Kroatie. Met je Saa
 b rij je in schitterende authentieke omgeving met gevarieerde wegen langs 
 de kust\, in het binnenland\, door de bergen en langs de kust. We starten 
 de tourrit in het plaatsje Opatija en zullen vervolgens Buzet\, de berg Uc
 ka\, het eiland Pag\, Zadar\, Sibenik\, Krka watervallen en Uneso Nationaa
 l park de Plitvice meren bezoeken. We verblijven tijdens de reis in zeer c
 omfortabele hotels op basis van half pension. Tijdens de tourtocht wordt o
 ok nog een traditionele lunchproeverij ingepland in Istrië en authentieke
  Kroatische lunch nabij de plaats Benkovac. De SCN ledenreis wordt een per
 fecte balans tussen heerlijk rijden en vrije tijd\, dagelijks gemiddelde l
 igt tussen 82-194 km\, die je alleen of in een groep kunt afleggen. Daardo
 or is er genoeg (vrije) tijd om te relaxen op het strand\, flaneren over d
 e boulevard\, te gaan winkelen of een historische plaats te bezoeken. De S
 aab Club Nederland Croatia Tour combineert een van de mooiste landschappen
  die men kan vinden in Kroatië! Gedurende deze dagen ervaart u tijdens d
 e tocht de puurheid van het rijden van uw Saab in een schitterende authent
 ieke en originele omgeving met gevarieerde wegen langs de kust\, in het bi
 nnenland en bergen. De 9-daagse tour begint in het plaatsje Opatija en we 
 zullen Buzet\, berg Ucka\, het eiland Pag\, Zadar\, Sibenik\, Krka waterva
 llen en de Plitvice meren bezoeken. De tour eindigt weer in Kastav of Opat
 ija (afhankelijk van het aan deelnemers). We verblijven in zeer comfortabe
 le hotels op half pension basis (ontbijt en diner). Tijdens de tour plan i
 k ook een proeverij in Istrië en een authentieke Kroatische lunch in een 
 restaurant in de nabijheid van Benkovac. Beide locaties gebruiken uitsluit
 end lokale producten\, en sommige lekkernijen zijn ook te koop. Deze tour 
 is een perfecte balans tussen het rijden en vrije tijd. Daardoor heeft u g
 enoeg tijd om tevens te relaxen op het strand\, flaneren over de boulevard
 \, winkelen of een historische binnenstad te ontdekken. ------------------
 ------------------------------------- Programma Dag 1 - Opatija Verzamelpu
 nt is het plaatsje Opatija. Dag 1 zal voornamelijk in het teken staan van 
 verzamelen\, informeren\, kennismaken en gezamenlijk dineren. Dag 2: Opat
 ija – Buzet - Vojak (Ucka) - Opatija 161 km\,  binnenland &amp\; kustli
 jn Vandaag gaan we de Ucka berg beklimmen. Vanuit Opatija rijden we eerst 
 via de kustlijn en het binnenland naar het plaatsje Buzet. Eenmaal aangeko
 men in Buzet is het tijd voor een heerlijke proeverij/lunch. Na deze pauze
  starten we weer de motoren om verder het binnenland in te rijden richting
  het hoogste punt van Istrië\, Vojak. Afhankelijk van het weer kunnen we 
 hier genieten van een prachtig uitzicht over Istrië en de Kvarner Baai. N
 a deze stop dalen we via een “berg etappe” weer af richting Opatija. D
 ag 3: Opatija – Pag 162 km\,  kustlijn &amp\; eiland Vandaag maakt u ke
 nnis met de ruige en groene kust van de Kvarner Baai. Schitterende route m
 et mooie vergezichten. Via een ferry overtocht bereiken we het eiland Pag.
  Het eerste deel van het eiland lijkt op een maanlandschap\, geleidelijk z
 al dit veranderen in een mooie groene omgeving. Eenmaal aangekomen in het 
 hotel  is er tijd voor ont spanning\, dit kan variëren tussen het verke
 nnen van het stadje Pag tot aan het zonnen en zwemmen op het strand van he
 t hotel.  Dag 4: Pag – Šibenik - 127 km\, kust &amp\; binnenland Vanaf
  Pag rijden we via een brug naar het vaste land. De route naar ons lunch a
 dres gaat via verschillende kleine dorpjes in het achterland.  De lunch w
 ordt verzorgd door een restaurant in Benkovac. Dit authentiek Kroatisch re
 staurant gebruikt alleen lokale producten. Een aanrader! Na de lunch vervo
 lgen we weer de weg naar Šibenik. Dag 5: Šibenik – Krka watervallen - 
 Šibenik - 100 km\, binnenland en watervallen Dag 5 gaan we “een rondje 
 om de kerk” rijden….maar dan anders! Rondje om de Krka watervallen! De
  route om het park gaat via kleine dorpjes en door een schitterend natuur 
 landschap. Na de rit bezoeken we het nationaal park. De rest van de middag
  is vrij en biedt de mogelijkheid om op eigen gelegenheid Šibenik te verk
 ennen of lekker bij het hotel op het strand te liggen. Dag 6: Sibenik - Za
 dar - 82 km\, kust &amp\; binnenland Dag 6 is een relatieve korte rit. Via
  de kustlijn zullen we naar het centrum van Zadar rijden. Ons hotel ligt o
 p loop afstand van het autovrije historisch centrum. Zadar is een ideale s
 tad om te genieten op een terrasje\, musea te bezoeken\, winkelen of om te
  flaneren. Dag 7: Zadar – Plitvice - 194 km\, kust &amp\; binnenland Dag
  7 is een pittige maar zeer zeker ook weer een prachtige route met veel va
 riatie in het landschap. Na de kustlijn en de “Velebit” klim rijden we
  weer via de binnendoor wegen naar het nationaal park Plitvice. Verken va
 ndaag de schitterende Plitvice Meren\, een waar natuurverschijnsel. U kunt
  gemakkelijk op eigen gelegenheid een van de routes volgen. Dag 8: Plitvic
 e - Opatija/ Kastav - 194 km\, binnenland\, bergen &amp\; kustlijn Alweer 
 de laatste etappe\, we sluiten af in stijl…….vandaag rijden we via het
  binnenland door verschillende dorpjes naar het Velebit gebergte. Na de af
 daling vervolgen we onze weg langs de kust richting Opatija/ Kastav. Dag 9
 : Opatija/ Kastav - naar huis Deze dag staat in het teken van ontwaken\, o
 ntbijten\, uitchecken een een begin maken aan de terug reis! -------------
 ------------------------------------------  Kosten Prijs per persoon: 2 p
 ersoonskamer inclusief ontbijt en diner  tussen € 1.555 per persoon (in
 cl. BTW) Toeslag 1 persoonskamer inclusief ontbijt en diner tussen € 495
  per persoon (incl. BTW) Inbegrepen in de prijs: • 8 overnachtingen in z
 eer comfortabele hotels op basis van halfpension (ontbijt en diner). • E
 ntree NP Plitvice meren\, NP Krka watervallen &amp\; PP Ucka. • Rally bo
 rd als souvenir van de tour. • Begeleiding (Nederlands\, Engels\, Kroati
 sch vloeiend en een klein beetje Duits) • Roadbook met een beschrijving 
 van de route\, prachtige vergezichten tijdens de route en bestemmingen. 
 • Kaart van en informatie over Kroatië. • 1 x proeverij in Istrie &am
 p\; 1 x lunch in een restaurant in Benkovac. Niet inbegrepen in de prijs: 
 • Parkeerkosten. • Ferry tickets. • Excursies. • Dranken. • Bran
 dstof. • Tol. • Alle uitgaven van persoonlijke aard\, verzekeringen\, 
 etc. Additionele informatie: • Alle informatie en prijzen onder voorbeho
 ud van wijzigingen. • Minimaal aantal deelnemers 20 personen. • Zoals 
 eerder aangegeven is het tot 01-04-2023 mogelijk om in te schrijven. Na aa
 nmelding ontvangt u een e-mail met een link naar het registratie formulier
  en een factuur voor 50€ inschrijfgeld. Zodra ik deze ingevuld retour he
 b ontvangen is de aanmelding voltooid. • Zodra het minimale aantal deeln
 emers behaald is ontvangt u daar  zo snel mogelijk bericht over. • Indi
 en de tour doorgaat ontvangt u digitaal de factuur. Deze dient binnen 10 d
 agen te worden voldaan. • Het inschrijfgeld wordt op de reissom in minde
 ring gebracht. Indien de tour niet doorgaat vanwege te kort aan deelnemers
  dan zal het inschrijfgeld aan u geretourneerd worden. • Voor credit car
 d betalingen wordt PayPal gebruikt. Hierdoor is het mogelijk om met versch
 illende credit cards te betalen. Let op! Er komt echter wel 4\,5% toeslag 
 op de totaalsom. • Wanneer u na inschrijving wilt annuleren\, moet dit s
 chriftelijk gedaan worden.   Afhankelijk van het moment van annuleren wo
 rden hier kosten voor in rekening gebracht:   -Bij annulering vanaf insc
 hrijving tot 1 april 2023: 50€ inschrijfgeld   -Bij annulering vanaf 01
  april 2023 tot 01 mei 2023: 30% van de totale reissom\;   -Bij annuleri
 ng vanaf 01 mei 2023 tot 13 mei 2023: 50% van de totale reissom\;   -Bij
  annulering vanaf 13 mei 2023 tot 01 juni 2023: 75% van de totale reissom\
 ;   -Bij annulering vanaf 01 juni 2023: 100% van de totale reissom. • 
 Indien de tour door de dan geldende Corona maatregelen niet gereden kan wo
 rden\, dan krijgt u de keuze om het betaalde bedrag retour te ontvangen of
  een voucher voor 2024. • Ik raad u aan om een reis- en/of annuleringsve
 rzekering af te sluiten.   Informatie over de SCN ledenreis: Alfons Heetj
 ans\, mailadres:  regiooost@saabclub.nl of mobiel: 06-22405099  
DTSTART:20230607T050000Z
DTEND:20230615T150000Z
END:VEVENT
BEGIN:VTIMEZONE
TZID:UTC
BEGIN:STANDARD
DTSTART:20230607T050000
TZNAME:UTC
TZOFFSETTO:+0000
TZOFFSETFROM:+0000
END:STANDARD
END:VTIMEZONE
END:VCALENDAR
