BEGIN:VCALENDAR
PRODID:-//eluceo/ical//2.0/EN
VERSION:2.0
CALSCALE:GREGORIAN
BEGIN:VEVENT
UID:event-234
DTSTAMP:20260423T172301Z
SUMMARY:Regioavond Noord-Brabant
DESCRIPTION:Beste Saab liefhebbers\, In veel van onze Saabs is leer in het 
 interieur te vinden\, en helaas is ook vaak te zien dat het leer niet meer
  nieuw is: het is niet meer soepel\, het bevat afgesleten plekken\, krasse
 n\, of is zelfs gescheurd. Hoe kun je dit repareren\, restaureren of voork
 omen? Wat kun je zelf doen\, wat kun je laten doen bij een bedrijf? Om ant
 woorden op dit soort vragen te krijgen\, gaan we in juli op bezoek bij Lea
 ther Repair NLD in Oosterhout (URL: https://www.leatherrepairnld.com). Rob
  Oomen\, de eigenaar\, heeft zich helemaal gespecialiseerd in leer\, en we
 et alles over het conserveren\, restaureren en reconstrueren van leer met 
 behoud van de authenticiteit en patina. Zijn uitgangspunt bij het behandel
 en van leer is: wat origineel is\, moet origineel blijven. Hoe hij dat doe
 t\, zal hij ons die avond proberen uit te leggen. Het programma van ons be
 zoek ziet er als volgt uit: Welkom met koffie/thee\; introductie van Leath
 er Repair NLD Uitleg over hoe je leer en skai moet onderhouden\, wat voor 
 soorten beschadigingen te repareren zijn\, en hoe dat repareren in zijn we
 rk gaat. Tevens uitleg van het concept van Leather Repair NLD: in "de fabr
 iek" of op locatie Voorbeelden van wat gerepareerd moet worden of al gerep
 areerd is. Beantwoorden van vragen Afsluiting met drankje Omdat de ruimte 
 bij Leather Repair NLD beperkt is\, kunnen we met maximaal 15 personen op 
 bezoek komen. Daarom dient men zich voor dit bezoek aan te melden\, wat ka
 n door een e-mail te sturen naar regionoordbrabant@saabclub.nl o.v.v. bezo
 ek Leather Repair NLD. De eerste 15 aanmeldingen kunnen mee\, en krijgen e
 en e-mail met bevestiging van deelname en verdere details over het bezoek.
  datum:    dinsdag 18 juli tijd:         20:00 - 22:00 uur loca
 tie:    Leather Repair NLD adres:      Leeuwenstraat 12B\, 4901 HB
  Oosterhout   met vriendelijke groet\, regiocommissie Noord-Brabant
DTSTART:20230718T160000Z
DTEND:20230718T200000Z
END:VEVENT
BEGIN:VTIMEZONE
TZID:UTC
BEGIN:STANDARD
DTSTART:20230718T160000
TZNAME:UTC
TZOFFSETTO:+0000
TZOFFSETFROM:+0000
END:STANDARD
END:VTIMEZONE
END:VCALENDAR
