BEGIN:VCALENDAR
PRODID:-//eluceo/ical//2.0/EN
VERSION:2.0
CALSCALE:GREGORIAN
BEGIN:VEVENT
UID:event-289
DTSTAMP:20260423T080354Z
SUMMARY:KLK-1 SAAB Rally
DESCRIPTION:Datum: 20 april 2024 12:00 tot 18:00 uur Locatie: Tammeling Aut
 otechniek Adres: Schoolstraat 9 \, 7722 SZ Dalfsen De befaamde KLK is teru
 g van weggeweest\, het Dutch Saab Classic Rallyteam blaast nieuw leven in 
 de KLK. Dit is alweer de vierde editie\, welke start in Oudleusen (gemeent
 e Dalfsen). De KLK’s (Kartläsningskurs) staat voor een mooie mix te wor
 den van plezierig rijden in je SAAB door mooie landschappen met uitdagende
  kaartleesopdrachten. Het concept is als vanouds: Eerst een briefing door 
 de uitzetter\, die even je vastgeroeste navigatie skills losmaakt en uitle
 g geeft over de te gebruiken kaartleessystemen. Na de lunch is er een uitd
 agende rallyrit met naderhand de uitleg ervan. Dat alles slechts voor €.
  55\,- per equipe incl. de (broodjes)lunch en gezellige nazit met een dran
 kje (SCN-leden genieten €. 10\,00 korting op de deelname) Er kan gestart
  worden in een Toerklasse en Sportklasse. Toerklasse is voor beginnende en
  debuterende rallyrijders\, de Sportklasse is voor meer ervaren navigatore
 n en rijders. Tijdens de KLK’s kun je punten verdienen die meetellen voo
 r de Erik Carlsson Competitie Inschrijven kan op de website van het Dutch 
 Saab Classic Rallyteam: https://www.dutchsaabclassicrallyteam.nl/rally-com
 petitie/    
DTSTART:20240420T100000Z
DTEND:20240420T160000Z
END:VEVENT
BEGIN:VTIMEZONE
TZID:UTC
BEGIN:STANDARD
DTSTART:20240420T100000
TZNAME:UTC
TZOFFSETTO:+0000
TZOFFSETFROM:+0000
END:STANDARD
END:VTIMEZONE
END:VCALENDAR
