BEGIN:VCALENDAR
PRODID:-//eluceo/ical//2.0/EN
VERSION:2.0
CALSCALE:GREGORIAN
BEGIN:VEVENT
UID:event-320
DTSTAMP:20260423T103214Z
SUMMARY:Regio Limburg: Praktijk auto poetsen
DESCRIPTION:In maart heeft Raymond Janssen ons op zijn eigen enthousiaste w
 ijze ingewijd in alle geheimen van de theorie van het perfect poetsen van 
 auto’s. Nu gaan we de volgende stap zetten: Autopoetsen in de praktijk. 
 Hoe gebruik je al die spullen waarover hij vorige maand vertelde? Er zijn 
 oefenobjecten\,  poetsmiddelen en poetsgereedschappen aanwezig. Wil je he
 t zelf kunnen? Kom het dan leren\, liefst niet in je allerbeste kleding\, 
 in: Scoutinggebouw Jeanne d’Arc Op de Wallen 2 6114 HC  Susteren dinsda
 g 30 april 2024 20.00 uur
DTSTART:20240430T180000Z
DTEND:20240430T200000Z
END:VEVENT
BEGIN:VTIMEZONE
TZID:UTC
BEGIN:STANDARD
DTSTART:20240430T180000
TZNAME:UTC
TZOFFSETTO:+0000
TZOFFSETFROM:+0000
END:STANDARD
END:VTIMEZONE
END:VCALENDAR
