BEGIN:VCALENDAR
PRODID:-//eluceo/ical//2.0/EN
VERSION:2.0
CALSCALE:GREGORIAN
BEGIN:VEVENT
UID:event-323
DTSTAMP:20260420T111442Z
SUMMARY:Regio Randstad - Kaffe och Saabs
DESCRIPTION:Woensdagavond 12de juni a.s. organiseert Regio Randstad weer e
 en “Kaffe och Saabs”\, locatie: Openbare Parkeerplaats Reeuwijk Reeuwi
 jksehoutwal\, 2811 NW Reeuwijk De locatie is de openbare parkeerplaats lan
 gs de A12 tussen Gouda en Bodegraven. Voor info over de werkzaamheden aan 
 de A12: Rijkswaterstaat Dit evenement staat open voor alle liefhebbers van
  het merk Saab\, ook niet SCN leden zijn van harte welkom. De bedoeling i
 s om iedereen de mogelijkheid te geven om eens een avond met elkaar van ge
 dachten te wisselen over ons favoriete automerk. Elkaars auto’s bekijken
 \, gluren onder de motorkap\, onderhoudstips en adressen uitwisselen van i
 nteressante Saabadressen\, het kan allemaal.  De avondmeeting begint om 1
 9.00 uur en eindigt als de laatste bezoeker naar huis gaat. Wij zorgen voo
 r koffie\, thee\, water en\, voor de liefhebber\, zelfs een koek. Wat wil 
 een mens nog meer! De kofferbak mag open voor de verkoop van onderdelen di
 e in de kofferbak passen.  Aanmelden is niet verplicht maar wordt wel gew
 aardeerd. Aanmelden kan doormiddel van een email naar: regiorandstad@saabc
 lub.nl  Tot woensdagavond\, de 12e juni. Regio Randstad.
DTSTART:20240612T170000Z
DTEND:20240612T200000Z
END:VEVENT
BEGIN:VTIMEZONE
TZID:UTC
BEGIN:STANDARD
DTSTART:20240612T170000
TZNAME:UTC
TZOFFSETTO:+0000
TZOFFSETFROM:+0000
END:STANDARD
END:VTIMEZONE
END:VCALENDAR
