BEGIN:VCALENDAR
PRODID:-//eluceo/ical//2.0/EN
VERSION:2.0
CALSCALE:GREGORIAN
BEGIN:VEVENT
UID:event-357
DTSTAMP:20260423T090250Z
SUMMARY:Regio Noord-Holland - Saab zomergroet bij het Automuseum te Schagen
DESCRIPTION:Saab zomergroet bij het Automuseum te Schagen op 18 augustus a.
 s. De zomer is in volle gang en velen van ons zijn waarschijnlijk met de S
 aab op vakantie. Voor de thuisblijvers organiseert de regio Noord-Holland
  op zondagmiddag 18 augustus een Saab zomergroet bij het Schager Automuseu
 m te Schagen. Is het een zonnige dag\, neem dan lekker uw cabrio mee! De 
 eigenaar van het museum is een echte autoliefhebber en wil zijn passie gra
 ag met ons delen! In het museum staan veel klassieke auto’s en een colle
 ctie van brommer\, motorfietsen en bijbehorende decoratiematerialen en bro
 chures. Het museum gaat die dag speciaal voor ons open om 11.00 uur en wij
  hopen daar natuurlijk heel veel Saabrijders met aanhang te mogen ontmoete
 n dus kom langs op deze zondag in Schagen (Een heel gezellige stad in NH) 
 en maak een reis door de tijd van de automobielgeschiedenis onder het geno
 t van een vers bakje koffie of frisje. Er is voldoende parkeerruimte dus n
 aast een bezoek aan het museum kunnen we uiteraard elkaars Saab bewonderen
 ! Adres : Lagedijkerweg 1a\, 1742 NB Schagen Website: https://automuseumsc
 hagen.nl/ We hopen je op 18 augustus  te ontmoeten! Als je langs komt dan
  graag even een berichtje naar : regionoordholland@saabclub.nl Regio Noord
  Holland Robert van der Linden Paul Hooijberg
DTSTART:20240818T090000Z
DTEND:20240818T140000Z
END:VEVENT
BEGIN:VTIMEZONE
TZID:UTC
BEGIN:STANDARD
DTSTART:20240818T090000
TZNAME:UTC
TZOFFSETTO:+0000
TZOFFSETFROM:+0000
END:STANDARD
END:VTIMEZONE
END:VCALENDAR
